BEGIN:VCALENDAR
VERSION:2.0
PRODID:-//Train inc Café - ECPv6.15.20//NONSGML v1.0//EN
CALSCALE:GREGORIAN
METHOD:PUBLISH
X-WR-CALNAME:Train inc Café
X-ORIGINAL-URL:https://train-inc-cafe.com
X-WR-CALDESC:Évènements pour Train inc Café
REFRESH-INTERVAL;VALUE=DURATION:PT1H
X-Robots-Tag:noindex
X-PUBLISHED-TTL:PT1H
BEGIN:VTIMEZONE
TZID:Europe/Paris
BEGIN:DAYLIGHT
TZOFFSETFROM:+0100
TZOFFSETTO:+0200
TZNAME:CEST
DTSTART:20230326T010000
END:DAYLIGHT
BEGIN:STANDARD
TZOFFSETFROM:+0200
TZOFFSETTO:+0100
TZNAME:CET
DTSTART:20231029T010000
END:STANDARD
BEGIN:DAYLIGHT
TZOFFSETFROM:+0100
TZOFFSETTO:+0200
TZNAME:CEST
DTSTART:20240331T010000
END:DAYLIGHT
BEGIN:STANDARD
TZOFFSETFROM:+0200
TZOFFSETTO:+0100
TZNAME:CET
DTSTART:20241027T010000
END:STANDARD
BEGIN:DAYLIGHT
TZOFFSETFROM:+0100
TZOFFSETTO:+0200
TZNAME:CEST
DTSTART:20250330T010000
END:DAYLIGHT
BEGIN:STANDARD
TZOFFSETFROM:+0200
TZOFFSETTO:+0100
TZNAME:CET
DTSTART:20251026T010000
END:STANDARD
END:VTIMEZONE
BEGIN:VEVENT
DTSTART;VALUE=DATE:20241122
DTEND;VALUE=DATE:20241125
DTSTAMP:20260425T174157
CREATED:20241126T065227Z
LAST-MODIFIED:20241126T065303Z
UID:279211-1732233600-1732492799@train-inc-cafe.com
SUMMARY:La compagnie L’Entaille en résidence
DESCRIPTION:Résidence d’artiste du 22 au 24 novembre 2024 avec la compagnie l’Entaille qui a organisé le projet « Toi sans qui le monde » (traversée de la France avec une chambre à coucher). \nLa troupe s’est réunie pour faire le bilan de cette action et venir à la rencontre des jeunes de T’Cap 21pour réaliser une performance artistique théâtrale ensemble.
URL:https://train-inc-cafe.com/actu/la-compagnie-lentaille-en-residence/
LOCATION:Train Inc Café\, 15\, route de Niolon\, LE ROVE\, 13740
ATTACH;FMTTYPE=image/jpeg:https://train-inc-cafe.com/wp-content/uploads/2024/11/toi-sans-qui-le-monde-arrivee-au-havre-2024-9.jpg
END:VEVENT
END:VCALENDAR