BEGIN:VCALENDAR
VERSION:2.0
PRODID:-//Train inc Café - ECPv6.15.20//NONSGML v1.0//EN
CALSCALE:GREGORIAN
METHOD:PUBLISH
X-WR-CALNAME:Train inc Café
X-ORIGINAL-URL:https://train-inc-cafe.com
X-WR-CALDESC:Évènements pour Train inc Café
REFRESH-INTERVAL;VALUE=DURATION:PT1H
X-Robots-Tag:noindex
X-PUBLISHED-TTL:PT1H
BEGIN:VTIMEZONE
TZID:Europe/Paris
BEGIN:DAYLIGHT
TZOFFSETFROM:+0100
TZOFFSETTO:+0200
TZNAME:CEST
DTSTART:20240331T010000
END:DAYLIGHT
BEGIN:STANDARD
TZOFFSETFROM:+0200
TZOFFSETTO:+0100
TZNAME:CET
DTSTART:20241027T010000
END:STANDARD
BEGIN:DAYLIGHT
TZOFFSETFROM:+0100
TZOFFSETTO:+0200
TZNAME:CEST
DTSTART:20250330T010000
END:DAYLIGHT
BEGIN:STANDARD
TZOFFSETFROM:+0200
TZOFFSETTO:+0100
TZNAME:CET
DTSTART:20251026T010000
END:STANDARD
BEGIN:DAYLIGHT
TZOFFSETFROM:+0100
TZOFFSETTO:+0200
TZNAME:CEST
DTSTART:20260329T010000
END:DAYLIGHT
BEGIN:STANDARD
TZOFFSETFROM:+0200
TZOFFSETTO:+0100
TZNAME:CET
DTSTART:20261025T010000
END:STANDARD
END:VTIMEZONE
BEGIN:VEVENT
DTSTART;TZID=Europe/Paris:20250906T120000
DTEND;TZID=Europe/Paris:20250906T143000
DTSTAMP:20260425T173921
CREATED:20250919T065040Z
LAST-MODIFIED:20250919T065136Z
UID:279494-1757160000-1757169000@train-inc-cafe.com
SUMMARY:Kouss.t'es Cap !
DESCRIPTION:Les jeunes de T’Cap 21 préparent un couscous\, dans le cadre du Kousskoussfestival
URL:https://train-inc-cafe.com/actu/kouss-tes-cap/
LOCATION:Train Inc Café\, 15\, route de Niolon\, LE ROVE\, 13740
ATTACH;FMTTYPE=image/jpeg:https://train-inc-cafe.com/wp-content/uploads/2025/09/kouss-kouss-2025-tcap-21-niolon.jpg
END:VEVENT
END:VCALENDAR